BEGIN:VCALENDAR
VERSION:2.0
PRODID:-//Music for Everyone - ECPv6.15.20//NONSGML v1.0//EN
CALSCALE:GREGORIAN
METHOD:PUBLISH
X-WR-CALNAME:Music for Everyone
X-ORIGINAL-URL:https://www.music-for-everyone.org
X-WR-CALDESC:Events for Music for Everyone
REFRESH-INTERVAL;VALUE=DURATION:PT1H
X-Robots-Tag:noindex
X-PUBLISHED-TTL:PT1H
BEGIN:VTIMEZONE
TZID:Europe/London
BEGIN:DAYLIGHT
TZOFFSETFROM:+0000
TZOFFSETTO:+0100
TZNAME:BST
DTSTART:20190331T010000
END:DAYLIGHT
BEGIN:STANDARD
TZOFFSETFROM:+0100
TZOFFSETTO:+0000
TZNAME:GMT
DTSTART:20191027T010000
END:STANDARD
BEGIN:DAYLIGHT
TZOFFSETFROM:+0000
TZOFFSETTO:+0100
TZNAME:BST
DTSTART:20200329T010000
END:DAYLIGHT
BEGIN:STANDARD
TZOFFSETFROM:+0100
TZOFFSETTO:+0000
TZNAME:GMT
DTSTART:20201025T010000
END:STANDARD
BEGIN:DAYLIGHT
TZOFFSETFROM:+0000
TZOFFSETTO:+0100
TZNAME:BST
DTSTART:20210328T010000
END:DAYLIGHT
BEGIN:STANDARD
TZOFFSETFROM:+0100
TZOFFSETTO:+0000
TZNAME:GMT
DTSTART:20211031T010000
END:STANDARD
END:VTIMEZONE
BEGIN:VEVENT
DTSTART;VALUE=DATE:20200128
DTEND;VALUE=DATE:20200203
DTSTAMP:20260422T213423
CREATED:20200108T140431Z
LAST-MODIFIED:20200108T140431Z
UID:5241-1580169600-1580687999@www.music-for-everyone.org
SUMMARY:Wind Band Open Day
DESCRIPTION:Nottingham Youth Band and the East Midlands Youth Wind Band invite YOU to a FREE taster session for ensemble playing and fun activities! Reserve a place now or just turn up on the day! \nIf you are grade 2 – 5+ and aged 7 – 21\, we have a group for you. Find out more about the groups here>> \nSpaces available for all wind\, brass and percussion players \nEmail admin@music-for-everyone.org or phone 0115 9589312 for more details and put your name down! \nGrade 2 – 5:\nTuesday 28 January 2020 at the Emmanuel School\, Gresham Park Road\, West Bridgford NG2 7YF\nThursday 30 January 2020 at Beeston Methodist Church\, Chilwell High Road\, Beeston NG9 1EH \nGrade 5+:\nSunday 2 February 2020 at Nottingham Trent University\, Clifton Campus NG11 8NS in the Teaching and Learning Building
URL:https://www.music-for-everyone.org/event/wind-band-open-day/
ATTACH;FMTTYPE=image/jpeg:https://www.music-for-everyone.org/content/wp-content/uploads/2019/05/youth.jpg
END:VEVENT
BEGIN:VEVENT
DTSTART;TZID=Europe/London:20200202T140000
DTEND;TZID=Europe/London:20200202T170000
DTSTAMP:20260422T213423
CREATED:20200108T135032Z
LAST-MODIFIED:20200108T140213Z
UID:5236-1580652000-1580662800@www.music-for-everyone.org
SUMMARY:Strings Open Day
DESCRIPTION:  \nNottingham Strictly Strings and the East Midlands Youth String Orchestra invite YOU to a FREE taster afternoon for ensemble playing and fun activities! Reserve a place now or just turn up on the day! \nIf you are grade 1 – 5+ and aged 7 – 21\, we have a group for you. Find out more about the groups here>> \nSpaces available for Violin\, Viola\, Cello and Double Bass players. \nEmail admin@music-for-everyone.org or phone 0115 9589312 for more details and put your name down! \nSunday 2 February 2020 at Nottingham Trent University\, Clifton Campus NG11 8NS in the Teaching and Learning Building
URL:https://www.music-for-everyone.org/event/strings-open-day/
LOCATION:Nottingham Trent University – Clifton\, Clifton Campus\, Nottingham\, NG11 8NS
ATTACH;FMTTYPE=image/jpeg:https://www.music-for-everyone.org/content/wp-content/uploads/2019/05/youth.jpg
END:VEVENT
END:VCALENDAR