BEGIN:VCALENDAR
VERSION:2.0
PRODID:-//Music for Everyone - ECPv6.15.20//NONSGML v1.0//EN
CALSCALE:GREGORIAN
METHOD:PUBLISH
X-WR-CALNAME:Music for Everyone
X-ORIGINAL-URL:https://www.music-for-everyone.org
X-WR-CALDESC:Events for Music for Everyone
REFRESH-INTERVAL;VALUE=DURATION:PT1H
X-Robots-Tag:noindex
X-PUBLISHED-TTL:PT1H
BEGIN:VTIMEZONE
TZID:Europe/London
BEGIN:DAYLIGHT
TZOFFSETFROM:+0000
TZOFFSETTO:+0100
TZNAME:BST
DTSTART:20250330T010000
END:DAYLIGHT
BEGIN:STANDARD
TZOFFSETFROM:+0100
TZOFFSETTO:+0000
TZNAME:GMT
DTSTART:20251026T010000
END:STANDARD
BEGIN:DAYLIGHT
TZOFFSETFROM:+0000
TZOFFSETTO:+0100
TZNAME:BST
DTSTART:20260329T010000
END:DAYLIGHT
BEGIN:STANDARD
TZOFFSETFROM:+0100
TZOFFSETTO:+0000
TZNAME:GMT
DTSTART:20261025T010000
END:STANDARD
BEGIN:DAYLIGHT
TZOFFSETFROM:+0000
TZOFFSETTO:+0100
TZNAME:BST
DTSTART:20270328T010000
END:DAYLIGHT
BEGIN:STANDARD
TZOFFSETFROM:+0100
TZOFFSETTO:+0000
TZNAME:GMT
DTSTART:20271031T010000
END:STANDARD
END:VTIMEZONE
BEGIN:VEVENT
DTSTART;VALUE=DATE:20260621
DTEND;VALUE=DATE:20260622
DTSTAMP:20260420T154748
CREATED:20160627T093109Z
LAST-MODIFIED:20260224T131923Z
UID:2062-1782000000-1782086399@www.music-for-everyone.org
SUMMARY:NCM Midsummer Sing
DESCRIPTION:Singing Workshop day \nCome and be part of an amazing choral experience. \n\nSunday 21st June 2026 10am – 5pm \nNTU Clifton \n\nLed by Rachel Parkes \nAccompanied by John Hobbs \n\nBrush up your vocal technique and learn new skills in this inspiring vocal workshop led by Rachel Parkes\, Artistic Director of Music for Everyone and founding member of VOCES8. \nDuring the day we will explore a couple of John Rutter’s joyous Birthday Madrigals\, along with toe-tapping jazz numbers\, seasonal folksongs\, and madrigals. \nWhether you’re an experienced singer or simply enthusiastic about singing\, you’ll explore practical vocal techniques\, build confidence\, and enjoy the energy of singing together in a relaxed\, supportive atmosphere – whilst having plenty of fun along the way. \n\n\nProvisional Timetable  \n\n09:45 – 10:00  Registration \n10:00 – 16:00 Rehearsals including breaks and lunch break \n16:30 – 17:00  Final run-through \nRepertoire \nRepertoire to include Rutter Birthday Madrigals and other summer themed choral arrangements. \n\nCourse Fee \n£22 members and non-members \n£15 students / BC \nHow do I enrol? \nFill in the online form via the button below and pay with a credit or debit card (no card fees). \n\nIf you do not wish to pay via the internet or have any questions\, please telephone 0115 9589312 to book over the phone. \nSubsidy scheme is available\, please email anne@music-for-everyone.org for further details. \n 
URL:https://www.music-for-everyone.org/event/ncmjune/
LOCATION:NTU Clifton Campus\, College Drive\, Clifton\, Nottingham\, NG11 8NS
CATEGORIES:Adult Music
ATTACH;FMTTYPE=image/png:https://www.music-for-everyone.org/content/wp-content/uploads/2016/06/website-headers-25.png
ORGANIZER;CN="Music for Everyone":MAILTO:admin@music-for-everyone.org
END:VEVENT
END:VCALENDAR