BEGIN:VCALENDAR
VERSION:2.0
PRODID:-//Music for Everyone - ECPv6.15.20//NONSGML v1.0//EN
CALSCALE:GREGORIAN
METHOD:PUBLISH
X-ORIGINAL-URL:https://www.music-for-everyone.org
X-WR-CALDESC:Events for Music for Everyone
REFRESH-INTERVAL;VALUE=DURATION:PT1H
X-Robots-Tag:noindex
X-PUBLISHED-TTL:PT1H
BEGIN:VTIMEZONE
TZID:Europe/London
BEGIN:DAYLIGHT
TZOFFSETFROM:+0000
TZOFFSETTO:+0100
TZNAME:BST
DTSTART:20240331T010000
END:DAYLIGHT
BEGIN:STANDARD
TZOFFSETFROM:+0100
TZOFFSETTO:+0000
TZNAME:GMT
DTSTART:20241027T010000
END:STANDARD
BEGIN:DAYLIGHT
TZOFFSETFROM:+0000
TZOFFSETTO:+0100
TZNAME:BST
DTSTART:20250330T010000
END:DAYLIGHT
BEGIN:STANDARD
TZOFFSETFROM:+0100
TZOFFSETTO:+0000
TZNAME:GMT
DTSTART:20251026T010000
END:STANDARD
BEGIN:DAYLIGHT
TZOFFSETFROM:+0000
TZOFFSETTO:+0100
TZNAME:BST
DTSTART:20260329T010000
END:DAYLIGHT
BEGIN:STANDARD
TZOFFSETFROM:+0100
TZOFFSETTO:+0000
TZNAME:GMT
DTSTART:20261025T010000
END:STANDARD
END:VTIMEZONE
BEGIN:VEVENT
DTSTART;VALUE=DATE:20251214
DTEND;VALUE=DATE:20251215
DTSTAMP:20260422T113558
CREATED:20171005T095856Z
LAST-MODIFIED:20251212T120346Z
UID:2895-1765670400-1765756799@www.music-for-everyone.org
SUMMARY:Community Voices - Christmas is Coming! Rehearsals
DESCRIPTION:Nottingham Community Voices Rehearsals and Concert – Christmas is Coming! \nOn Sunday 14 December\, Music for Everyone are giving a Christmas Concert at the Albert Hall in Nottingham. \nJoin with the other MfE choirs\, both adult and youth\, in presenting this popular\, traditional afternoon concert for all the family. \nRehearsal details: \nYou are welcome to attend more than one rehearsal. \nChoose from the following rehearsal dates when booking: \n\n\nSouthwell Methodist Church – Mon 01 December 2-4pm \n\n\nWest Bridgford Baptist Church – Tues 02 December 2-4pm \n\n\nWollaton St Leonard’s Community Centre – Weds 03 December 2:15-4:15pm \n\n\nHucknall John Godber Centre – Mon 08 December 10:15am-12:15pm \n\n\nGamston St Luke’s Church – Weds 10 December EVENING 7-9pm \n\n\nSherwood Methodist Church – Thurs 11 December 2-4pm \n\n\nConcert Day – Albert Hall\, Nottingham \nSunday 14 December: \n10.45am Arrival \n11.15am Rehearsal \n1.45pm End of rehearsal \n3.30pm Concert \nThe concert is estimated to finish between 5.30pm and 6pm. \nEnrolment Fee\n£31 – Adults\, £15 Students \nRehearsal sessions and music is all included in the enrolment fee. \nOnline – pay by card here: \nBookings are no longer available for this course. \nClick the button above and fill in your details: Payment can be made via debit/credit card (no additional fees) \nBy post – pay by cheque/cash. \nFor any further information\, email admin@music-for-everyone.org or telephone 0115 9589312 \n 
URL:https://www.music-for-everyone.org/event/christmas-is-coming-daytime-voices/
LOCATION:Albert Hall\, Nottingham\, N Circus Street\, Nottingham\, NG1 5AA\, United Kingdom
CATEGORIES:Adult Music
ATTACH;FMTTYPE=image/png:https://www.music-for-everyone.org/content/wp-content/uploads/2017/10/CIC-Course-25-3.png
ORGANIZER;CN="Music for Everyone":MAILTO:admin@music-for-everyone.org
END:VEVENT
END:VCALENDAR