BEGIN:VCALENDAR
VERSION:2.0
PRODID:-//Music for Everyone - ECPv6.15.20//NONSGML v1.0//EN
CALSCALE:GREGORIAN
METHOD:PUBLISH
X-ORIGINAL-URL:https://www.music-for-everyone.org
X-WR-CALDESC:Events for Music for Everyone
REFRESH-INTERVAL;VALUE=DURATION:PT1H
X-Robots-Tag:noindex
X-PUBLISHED-TTL:PT1H
BEGIN:VTIMEZONE
TZID:Europe/London
BEGIN:DAYLIGHT
TZOFFSETFROM:+0000
TZOFFSETTO:+0100
TZNAME:BST
DTSTART:20200329T010000
END:DAYLIGHT
BEGIN:STANDARD
TZOFFSETFROM:+0100
TZOFFSETTO:+0000
TZNAME:GMT
DTSTART:20201025T010000
END:STANDARD
BEGIN:DAYLIGHT
TZOFFSETFROM:+0000
TZOFFSETTO:+0100
TZNAME:BST
DTSTART:20210328T010000
END:DAYLIGHT
BEGIN:STANDARD
TZOFFSETFROM:+0100
TZOFFSETTO:+0000
TZNAME:GMT
DTSTART:20211031T010000
END:STANDARD
BEGIN:DAYLIGHT
TZOFFSETFROM:+0000
TZOFFSETTO:+0100
TZNAME:BST
DTSTART:20220327T010000
END:DAYLIGHT
BEGIN:STANDARD
TZOFFSETFROM:+0100
TZOFFSETTO:+0000
TZNAME:GMT
DTSTART:20221030T010000
END:STANDARD
END:VTIMEZONE
BEGIN:VEVENT
DTSTART;VALUE=DATE:20210816
DTEND;VALUE=DATE:20211117
DTSTAMP:20260425T034112
CREATED:20210817T153131Z
LAST-MODIFIED:20211117T165205Z
UID:6429-1629072000-1637107199@www.music-for-everyone.org
SUMMARY:Daytime Voices and Orchestras
DESCRIPTION:Daytime Voices\nMfE’s Daytime Voices will be returning from September\, details and start dates are below – for full term dates\, visit the DTV page for updates. If you would like to sign up in advance\, you can do so via the links provided. Alternatively\, turn up to the first rehearsal and pay on the door – we accept cheque\, cash or card! (Contactless card is preferred) \nSouthwell – Term starts on 13th September\nMonday\, 2pm – 4pm\, Southwell Methodist Church\, Westgate\nConductor – Angela Kay \nWest Bridgford – Term starts on 14th September\nTuesday\, 2pm – 4pm\, West Bridgford Baptist Church\, Melton Road\nConductor – Rachel Parkes \nWollaton – Term starts on 15th September\nWednesday\, 2.15pm – 4.15pm\, St Leonards Community Centre\, Bramcote Lane\nConductor – Angela Kay \nSherwood – Term starts on 16th September\nThursday\, 2pm – 4pm\, Sherwood Methodist Church\, Devon Drive\nConductor – Gregory Treloar \nSign up for the Autumn Term – DTV \nLunchtime Voices\nLunchtime Voices are not currently able to return to rehearsals at the Concert Hall. Rehearsals have been postponed until January 2022. \nDaytime Orchestras\nBoth Loughborough and Nottingham groups return under new MfE Instrumental Animateur Josh Goodman from September. Term start dates and how to sign up in advance are below\, for more information visit the DTO page here. If you are a new player planning on joining\, please email us with your instrument and approximate grade. \nLoughborough – Term starts on 14th September\nTuesday\, 10am – 12pm\, All Saints Church\, Steeple Row \nNottingham – Term starts on 16th September\nThursday\, 10.30am – 12.30pm\, St Martins Church\, Sherwood \nSign up for the Autumn Term – DTO \nSunday Afternoon Music\nSwing Band (Phil Smith) and Flute Choir (Kerry Lovell) are returning\, venue and full term dates to be announced. If you are a new player planning on joining\, please email us with your instrument and approximate grade. \nSundays\, 2.30pm – 5pm (approximately once a month) \n12th September\, 10th October\, 21st November\, 5th December \nSign up for the Autumn Term – SAM
URL:https://www.music-for-everyone.org/event/daytime-voices-and-orchestras/
LOCATION:Music for Everyone\, 10 Goose Gate\, Hockley\, Nottingham\, NG1 1FF\, United Kingdom
CATEGORIES:Adult Music
ATTACH;FMTTYPE=image/jpeg:https://www.music-for-everyone.org/content/wp-content/uploads/2017/10/WO-DTVcover.jpg
END:VEVENT
BEGIN:VEVENT
DTSTART;VALUE=DATE:20210818
DTEND;VALUE=DATE:20220101
DTSTAMP:20260425T034112
CREATED:20210824T144033Z
LAST-MODIFIED:20210827T135611Z
UID:6442-1629244800-1640995199@www.music-for-everyone.org
SUMMARY:Open Voices
DESCRIPTION:These sociable groups are especially suitable for adults with learning difficulties or disabilities. The music chosen will be varied\, with everything from pop songs to classics. The singing session will include a break for refreshments. \nCome and sing with Open Voices! \nMusic Leaders: Victoria Barlow\, Pip Flewitt\, Cliff McArdle and Sarah Trevers. \n\nOpen Voices West Bridgford – Term starts on 21st September \nTuesdays\, 10am – 12pm at St Luke’s Church\, West Bridgford \nOpen Voices Beeston – Term starts on 21st September \nTuesdays\, 10am – 12pm at Middle Street Resource Centre\, Beeston \nOpen Voices Sherwood – Term starts on 24th September \nFridays\, 10am – 12pm at St Martin’s Church\, Trevose Gardens\, Sherwood
URL:https://www.music-for-everyone.org/event/open-voices/
LOCATION:Music for Everyone\, 10 Goose Gate\, Hockley\, Nottingham\, NG1 1FF\, United Kingdom
CATEGORIES:Adult Music
ATTACH;FMTTYPE=image/jpeg:https://www.music-for-everyone.org/content/wp-content/uploads/2021/08/DSC_0927.jpg
END:VEVENT
BEGIN:VEVENT
DTSTART;VALUE=DATE:20210820
DTEND;VALUE=DATE:20211118
DTSTAMP:20260425T034112
CREATED:20210817T153246Z
LAST-MODIFIED:20211118T132445Z
UID:6447-1629417600-1637193599@www.music-for-everyone.org
SUMMARY:Nottingham Youth Band
DESCRIPTION:Two youth wind bands for young wind\, brass and percussion players of grade 2 – 5 standard\, no auditions! \nNottingham Youth Band West Bridgford – Term start date 7th September\nTuesdays\, 5.30pm – 7pm at Rushcliffe School\nConductor: Claire Franklin \nNottingham Youth Band Beeston – Term start date 9th September\nThursdays\, 5pm – 6.30pm at Beeston Methodist Church\nConductor: Josh Goodman \nCurrent members should have now received an email with information on how to sign up for new term. If you think you haven’t received this\, please email Kirstie on kirstie@music-for-everyone.org \nIf you are a new player and would like to join one of our exciting youth bands\, why not try one of our FREE taster sessions? \nFREE TASTER SESSIONS FOR NEW PLAYERS\nWest Bridgford – Tuesday 14th September\, 5.30pm – 7pm at Rushcliffe School \nBeeston – Thursday 16th September\, 5pm – 6.30pm at Beeston Methodist Church \nSIGN UP HERE! \nOr scan this QR code:
URL:https://www.music-for-everyone.org/event/nottingham-youth-band/
LOCATION:Music for Everyone\, 10 Goose Gate\, Hockley\, Nottingham\, NG1 1FF\, United Kingdom
CATEGORIES:Youth Music
ATTACH;FMTTYPE=image/jpeg:https://www.music-for-everyone.org/content/wp-content/uploads/2021/08/NYB1.jpg
END:VEVENT
BEGIN:VEVENT
DTSTART;VALUE=DATE:20210821
DTEND;VALUE=DATE:20211118
DTSTAMP:20260425T034112
CREATED:20210817T153216Z
LAST-MODIFIED:20211118T132511Z
UID:6451-1629504000-1637193599@www.music-for-everyone.org
SUMMARY:Youth Sunday Strings
DESCRIPTION:Two youth string orchestras for young violin\, viola\, cello and double bass players of grade 1 – 5+ standard. There are no auditions for Strictly Strings (grade 1 – 4)\, East Midlands Youth String Orchestra is for grade 5+ and is auditioned. \nNottingham Strictly Strings – Term start date 12th September\nSundays\, 2pm – 4pm at Middle Street Resource Centre\, Beeston\nConductor: Josh Goodman \nEast Midlands Youth String Orchestra – Term start date 12th September\nSundays\, 2pm – 5pm at Middle Street Resource Centre\, Beeston\nConductor: Richard Howarth \nCurrent members should have now received an email with information on how to sign up for new term. If you think you haven’t received this\, please email Kirstie on kirstie@music-for-everyone.org \nIf you are a new player and would like to join one of our exciting youth orchestras\, why not try one of our FREE taster sessions? \nFREE TASTER SESSIONS FOR NEW PLAYERS\nStrictly Strings – Sunday 19th September\, 2pm – 4pm at Middle Street Resource Centre\, Beeston \nEast Midlands Youth String Orchestra – Sunday 19th September\, 2pm – 5pm at Middle Street Resource Centre\, Beeston \nSIGN UP HERE! \nOr scan this QR code:
URL:https://www.music-for-everyone.org/event/youth-sunday-strings/
LOCATION:Music for Everyone\, 10 Goose Gate\, Hockley\, Nottingham\, NG1 1FF\, United Kingdom
CATEGORIES:Youth Music
ATTACH;FMTTYPE=image/png:https://www.music-for-everyone.org/content/wp-content/uploads/2021/08/Untitled-design-6.png
END:VEVENT
END:VCALENDAR