BEGIN:VCALENDAR
VERSION:2.0
PRODID:-//Music for Everyone - ECPv6.15.20//NONSGML v1.0//EN
CALSCALE:GREGORIAN
METHOD:PUBLISH
X-ORIGINAL-URL:https://www.music-for-everyone.org
X-WR-CALDESC:Events for Music for Everyone
REFRESH-INTERVAL;VALUE=DURATION:PT1H
X-Robots-Tag:noindex
X-PUBLISHED-TTL:PT1H
BEGIN:VTIMEZONE
TZID:Europe/London
BEGIN:DAYLIGHT
TZOFFSETFROM:+0000
TZOFFSETTO:+0100
TZNAME:BST
DTSTART:20200329T010000
END:DAYLIGHT
BEGIN:STANDARD
TZOFFSETFROM:+0100
TZOFFSETTO:+0000
TZNAME:GMT
DTSTART:20201025T010000
END:STANDARD
BEGIN:DAYLIGHT
TZOFFSETFROM:+0000
TZOFFSETTO:+0100
TZNAME:BST
DTSTART:20210328T010000
END:DAYLIGHT
BEGIN:STANDARD
TZOFFSETFROM:+0100
TZOFFSETTO:+0000
TZNAME:GMT
DTSTART:20211031T010000
END:STANDARD
BEGIN:DAYLIGHT
TZOFFSETFROM:+0000
TZOFFSETTO:+0100
TZNAME:BST
DTSTART:20220327T010000
END:DAYLIGHT
BEGIN:STANDARD
TZOFFSETFROM:+0100
TZOFFSETTO:+0000
TZNAME:GMT
DTSTART:20221030T010000
END:STANDARD
END:VTIMEZONE
BEGIN:VEVENT
DTSTART;VALUE=DATE:20210620
DTEND;VALUE=DATE:20210621
DTSTAMP:20260424T202721
CREATED:20210329T093726Z
LAST-MODIFIED:20210617T150203Z
UID:6008-1624147200-1624233599@www.music-for-everyone.org
SUMMARY:Youth String Workshop
DESCRIPTION:1.30pm – 5.30pm at the Albert Hall\, Nottingham \nCome and experience string playing for young violinists\, violists\, cellists and bassists. Two string orchestras for players of all abilities (grade 2 – 8+). The Junior orchestra for players grade 2 – 5 standard\, conducted by Ann-Marie Shaw\, will enjoy a range of music that will introduce young instrumentalists to playing in an ensemble\, including The Toreadors by Bizet. The Senior orchestra\, for players grade 5+ standard\, will play St Paul’s Suite by Holst and will be conducted by Richard Howarth\, conductor of MfE’s East Midlands Youth String Orchestra. \nWe will end the workshop with an informal performance to each other. PDFs of the music will be emailed out beforehand so you can have a look at the music\, proper copies will be provided on the day. \n(NB All covid regulations in place at the time will be adhered to) \nListen to a taster of the pieces here: \n \n\nMusic leaders – Richard Howarth\, Ann-Marie Shaw \n   \nAnn-Marie was the String Animateur for Music for Everyone\, 2016-2018\, where she helped to organise and lead string orchestra courses and performances for both adults and children in the midlands. Her current role is Music Teacher at Martin High School in Anstey\, Leicester and she continues to perform in a wide variety of ensembles in the Midlands. \nRichard brings a wealth of experience and energy to orchestral conducting\, inspiring both musicians and audiences. He is able to draw on a distinguished career as a violinist\, having led and directed orchestras for over thirty years. \n\nProvisional Timetable – Sunday 20 June \n1.30pm – 2pm                Arrive and Registration \n2pm – 3pm                     Rehearsal \n3pm – 3.30pm                 Break \n3.30pm – 4.15pm            Rehearsal \n4.15pm – 4.45pm            Break \n4.45pm – 5.30pm            Rehearsal \n5.30pm                            End of session \nEnrolment and Price \nBOOKING FOR THIS EVENT IS NOW CLOSED. FOR INFORMATION ON FUTURE COURSES\, PLEASE EMAIL admin@music-for-everyone.org \nPrice – £5 \nOnline – pay through PayPal or by card: Just click here and fill in your details: String Workshop Form Payment can be made via PayPal or debit/credit card. \nBy post – pay by cheque: Please download and complete this pdf form and post it\, together with your enrolment cheque (made payable to Music for Everyone) to Music for Everyone\, 10 Goose Gate\, Hockley\, Nottingham NG1 1FF \nFor any further information\, email admin@music-for-everyone.org or telephone 0115 9589312 (Monday – Wednesday\, mornings only) \nDates for your diaries! We are also holding 2 workshop afternoons in May and June for wind band players and a singing event for primary aged children – find out more information here. All groups will come together on Saturday 17 July for a spectacular Youth Festival\, which will culminate in an informal performance for family and friends to come and listen too!
URL:https://www.music-for-everyone.org/event/youth-string-workshop/
LOCATION:Albert Hall\, Nottingham\, N Circus Street\, Nottingham\, NG1 5AA\, United Kingdom
CATEGORIES:Youth Music
ATTACH;FMTTYPE=image/jpeg:https://www.music-for-everyone.org/content/wp-content/uploads/2021/03/DSC_0025-1.jpg
ORGANIZER;CN="Music for Everyone":MAILTO:admin@music-for-everyone.org
END:VEVENT
END:VCALENDAR