BEGIN:VCALENDAR
VERSION:2.0
PRODID:-//Music for Everyone - ECPv6.15.20//NONSGML v1.0//EN
CALSCALE:GREGORIAN
METHOD:PUBLISH
X-ORIGINAL-URL:https://www.music-for-everyone.org
X-WR-CALDESC:Events for Music for Everyone
REFRESH-INTERVAL;VALUE=DURATION:PT1H
X-Robots-Tag:noindex
X-PUBLISHED-TTL:PT1H
BEGIN:VTIMEZONE
TZID:Europe/London
BEGIN:DAYLIGHT
TZOFFSETFROM:+0000
TZOFFSETTO:+0100
TZNAME:BST
DTSTART:20190331T010000
END:DAYLIGHT
BEGIN:STANDARD
TZOFFSETFROM:+0100
TZOFFSETTO:+0000
TZNAME:GMT
DTSTART:20191027T010000
END:STANDARD
BEGIN:DAYLIGHT
TZOFFSETFROM:+0000
TZOFFSETTO:+0100
TZNAME:BST
DTSTART:20200329T010000
END:DAYLIGHT
BEGIN:STANDARD
TZOFFSETFROM:+0100
TZOFFSETTO:+0000
TZNAME:GMT
DTSTART:20201025T010000
END:STANDARD
BEGIN:DAYLIGHT
TZOFFSETFROM:+0000
TZOFFSETTO:+0100
TZNAME:BST
DTSTART:20210328T010000
END:DAYLIGHT
BEGIN:STANDARD
TZOFFSETFROM:+0100
TZOFFSETTO:+0000
TZNAME:GMT
DTSTART:20211031T010000
END:STANDARD
BEGIN:DAYLIGHT
TZOFFSETFROM:+0000
TZOFFSETTO:+0100
TZNAME:BST
DTSTART:20220327T010000
END:DAYLIGHT
BEGIN:STANDARD
TZOFFSETFROM:+0100
TZOFFSETTO:+0000
TZNAME:GMT
DTSTART:20221030T010000
END:STANDARD
END:VTIMEZONE
BEGIN:VEVENT
DTSTART;VALUE=DATE:20200401
DTEND;VALUE=DATE:20210401
DTSTAMP:20260424T161722
CREATED:20200219T154636Z
LAST-MODIFIED:20210329T110008Z
UID:5353-1585699200-1617235199@www.music-for-everyone.org
SUMMARY:MfE YouTube Channel
DESCRIPTION:MfE YouTube Channel \n\n\n\n\nKeep in touch with MfE via our YouTube Channel: https://www.youtube.com/user/MusicforEveryoneUK/playlists. \nTake part in the challenges\, join in with our Sing-a-Long items\, listen to songs and instrumental pieces performed by our members – contribute your own items! \n\n\n\n\nIf you would like information as to how to be part of the MfE on-line community choir\, instrumental project or Open Voices then please send an email to admin@music-for-everyone.org
URL:https://www.music-for-everyone.org/event/mfe-youtube/
ATTACH;FMTTYPE=image/png:https://www.music-for-everyone.org/content/wp-content/uploads/2020/02/ALL-DAYTIME-VOICES-AND-DAYTIME-ORCHESTRA-GROUPS-ARE-NOW-CANCELLED-UNTIL-FURTHER-NOTICE-1-1.png
END:VEVENT
BEGIN:VEVENT
DTSTART;VALUE=DATE:20210120
DTEND;VALUE=DATE:20210218
DTSTAMP:20260424T161722
CREATED:20210125T145025Z
LAST-MODIFIED:20210203T163643Z
UID:5735-1611100800-1613606399@www.music-for-everyone.org
SUMMARY:Sing into Shape
DESCRIPTION:MfE’s online singing project for January – February 2021!\nBrought to you by MfE’s Assistant Artistic Director\, Rachel Parkes and Director of Music of St Barnabas Cathedral\, Greg Treloar – these online sessions are designed to help refresh your singing voice and get it back into shape with helpful warm up tips as well as rehearsing a piece of music\, chosen by our conductors. \nRachel Parkes \nGreg Treloar \n  \n  \n  \n  \n  \n  \n  \n  \nThe sessions in this 4-week course are uploaded to our YouTube channel every Wednesday\, but you can watch them in your own time when it suits you. \nMfE’s online singing sessions are free of charge to access\, but if you feel able to make a donation to support MfE through these hard times\, you can do so with a card or through PayPal here: https://www.music-for-everyone.org/donations-page/  \nOr if you already have an account with us\, through our website here (at the bottom of the page): Make a donation \nTo be added to the online choir mailing list\, please email admin@music-for-everyone.org and further details will be sent to you.
URL:https://www.music-for-everyone.org/event/sing-into-shape/
CATEGORIES:Adult Music
ATTACH;FMTTYPE=image/png:https://www.music-for-everyone.org/content/wp-content/uploads/2021/01/website-carousel-images.png
END:VEVENT
END:VCALENDAR